BEGIN:VCALENDAR
VERSION:2.0
PRODID:Yachts and Yachting Online
CALSCALE:GREGORIAN
BEGIN:VEVENT
DTSTART:20250906T090000Z
DTEND:20250907T170000Z
SUMMARY:Annual Regatta
LOCATION:Royal Thames Yacht Club
DESCRIPTION:Class and handicap racing for P40 and other class boats
PRIORITY:3
END:VEVENT
END:VCALENDAR
