BEGIN:VCALENDAR
VERSION:2.0
PRODID:Yachts and Yachting Online
CALSCALE:GREGORIAN
BEGIN:VEVENT
DTSTART:20250905T090000Z
DTEND:20250907T170000Z
SUMMARY:Annual Regatta
LOCATION:Royal Thames Yacht Club
DESCRIPTION:Cape 31 Class UK Class Grand Prix Round 6 - hosted by the RTYC
PRIORITY:3
END:VEVENT
END:VCALENDAR
