BEGIN:VCALENDAR
VERSION:2.0
PRODID:Yachts and Yachting Online
CALSCALE:GREGORIAN
BEGIN:VEVENT
DTSTART:20250825T090000Z
DTEND:20250825T170000Z
SUMMARY:Bank Holiday Charity Pursuit
LOCATION:Hayling Island Sailing Club
DESCRIPTION:
PRIORITY:3
END:VEVENT
END:VCALENDAR
