BEGIN:VCALENDAR
VERSION:2.0
PRODID:Yachts and Yachting Online
CALSCALE:GREGORIAN
BEGIN:VEVENT
DTSTART:20250706T090000Z
DTEND:20250707T170000Z
SUMMARY:Southwest  Championship
LOCATION:Royal Torbay Yacht Club
DESCRIPTION:The two-day Southwest Championships will precede the 2025 Edinrbugh Cup, hosted by the Royal Torbay Yacht Club in Torquay this year. 
PRIORITY:3
END:VEVENT
END:VCALENDAR
