BEGIN:VCALENDAR
VERSION:2.0
PRODID:Yachts and Yachting Online
CALSCALE:GREGORIAN
BEGIN:VEVENT
DTSTART:20250906T090000Z
DTEND:20250907T170000Z
SUMMARY:Cartoon trophy Open Meeting
LOCATION:Waldringfield Sailing Club
DESCRIPTION:Waldringfield Sailing club are holding their annual Cartoon trophy open meeting.
The meeting will be open to the following classes: Cadets, Dragonfly, Lark, ILCA 6&7 (Laser), OK, RS200, Squib, Topper and Wayfarer.
Food and refreshments are provided in the Galley
Parking is available on site and supervised but can get busy at peak times.
Entry fees are £20 for double handers and £10 for single handers for the whole event.
Entries will close at 2345hrs on 5th September 2025
Briefing to take place at approximately 1000hrs on racing days
PRIORITY:3
END:VEVENT
END:VCALENDAR
