BEGIN:VCALENDAR
VERSION:2.0
PRODID:Yachts and Yachting Online
CALSCALE:GREGORIAN
BEGIN:VEVENT
DTSTART:20250405T090000Z
DTEND:20250406T170000Z
SUMMARY:Open Meeting
LOCATION:Middle Nene Sailing Club
DESCRIPTION:This is the postponed event from November 2024
For the first time Illusions and 2.4R mini-keelboats come together for an Open Meeting. Details will be announced in good time and for any questions, please contact us via e-mail or phone.
PRIORITY:3
END:VEVENT
END:VCALENDAR
