BEGIN:VCALENDAR
VERSION:2.0
PRODID:Yachts and Yachting Online
CALSCALE:GREGORIAN
BEGIN:VEVENT
DTSTART:20250405T090000Z
DTEND:20250406T170000Z
SUMMARY:Skiff Open Meeting
LOCATION:Stokes Bay Sailing Club
DESCRIPTION:Parking will be in the main carpark adjacent to the club, limited berthing in the compound is available (first come first served) otherwise store on seafront. Camping will be available on the adjacent field. Sat eve meal available to be booked with entry.  

PRIORITY:3
END:VEVENT
END:VCALENDAR
