BEGIN:VCALENDAR
VERSION:2.0
PRODID:Yachts and Yachting Online
CALSCALE:GREGORIAN
BEGIN:VEVENT
DTSTART:20241102T090000Z
DTEND:20241103T170000Z
SUMMARY:Worlds Trials
LOCATION:Queen Mary Sailing Club
DESCRIPTION:Two boat team racing in Keelboats. GBR selection event taking place in Sonars. Worlds are taking place in New York YC on 28th May - 5th June 2025.
PRIORITY:3
END:VEVENT
END:VCALENDAR
