BEGIN:VCALENDAR
VERSION:2.0
PRODID:Yachts and Yachting Online
CALSCALE:GREGORIAN
BEGIN:VEVENT
DTSTART:20241102T090000Z
DTEND:20241103T170000Z
SUMMARY:Brummy Boom
LOCATION:Bartley Sailing Club
DESCRIPTION:The Brummy Boom is Back! Join us for a weekend of competitive team racing at our beloved Bartley Reservoir alongside two unforgettable socials on Friday and Saturday

PRIORITY:3
END:VEVENT
END:VCALENDAR
