BEGIN:VCALENDAR
VERSION:2.0
PRODID:Yachts and Yachting Online
CALSCALE:GREGORIAN
BEGIN:VEVENT
DTSTART:20230730T090000Z
DTEND:20230730T170000Z
SUMMARY:Open Handicap Sprint Races 
LOCATION:Llandegfedd Sailing Club
DESCRIPTION:Racing 12 - 4.30 with break for lunch. 7 races 6 to count.
Entry fee - email 

PRIORITY:3
END:VEVENT
END:VCALENDAR
