BEGIN:VCALENDAR
VERSION:2.0
PRODID:Yachts and Yachting Online
CALSCALE:GREGORIAN
BEGIN:VEVENT
DTSTART:20230513T090000Z
DTEND:20230514T170000Z
SUMMARY:UKWA Craftinsure Travellers Series - Westerns
LOCATION:Parkstone Yacht Club
DESCRIPTION:
PRIORITY:3
END:VEVENT
END:VCALENDAR
