BEGIN:VCALENDAR
VERSION:2.0
PRODID:Yachts and Yachting Online
CALSCALE:GREGORIAN
BEGIN:VEVENT
DTSTART:20230813T090000Z
DTEND:20230813T170000Z
SUMMARY:Anglesey Offshore Dinghy Race
LOCATION:Red Wharf Bay Sailing Club
DESCRIPTION:The iconic Anglesey Offshore Dinghy Race race, first run in 1965, kindly supported by ContractCars.com will be running on the 13th August as part of the Allen Endurance Series 2023.

The race runs from Beaumaris to Traeth Bychan via the Menai Straits, through Puffin Island sound with a turning mark off Moelfre, a distance of over 15 nautical miles for the monohulls and up to 30 miles for cats. 

It is open to monohulls with a Portsmouth Yardstick of 1142 or lower and to multihulls with a PY of 926 or lower. Frequent visitors include Olympic sailors as well as past and present National Champions.

For those wanting to make a weekend of it there will b racing open to visitors at RWBSWC on the Saturday, a social evening with live music on Saturday night (tickets will be available separately) before the endurance race on the Sunday.

Further details will be available in April at https://www.redwharfbaysc.co.uk/aodr

PRIORITY:3
END:VEVENT
END:VCALENDAR
