BEGIN:VCALENDAR
VERSION:2.0
PRODID:Yachts and Yachting Online
CALSCALE:GREGORIAN
BEGIN:VEVENT
DTSTART:20230724T090000Z
DTEND:20230728T170000Z
SUMMARY:World Championships
LOCATION:Sligo Yacht Club
DESCRIPTION:
PRIORITY:3
END:VEVENT
END:VCALENDAR
