BEGIN:VCALENDAR
VERSION:2.0
PRODID:Yachts and Yachting Online
CALSCALE:GREGORIAN
BEGIN:VEVENT
DTSTART:20230624T090000Z
DTEND:20230625T170000Z
SUMMARY:Irish  Watersports Inclusion Games
LOCATION:Wexford Harbour Boat and Tennis Club
DESCRIPTION:For people with physical or intellectual disabilities to try sailing and other watersports
PRIORITY:3
END:VEVENT
END:VCALENDAR
