BEGIN:VCALENDAR
VERSION:2.0
PRODID:Yachts and Yachting Online
CALSCALE:GREGORIAN
BEGIN:VEVENT
DTSTART:20230408T090000Z
DTEND:20230408T170000Z
SUMMARY:Midlands Training
LOCATION:Notts County Sailing Club
DESCRIPTION:
PRIORITY:3
END:VEVENT
END:VCALENDAR
