BEGIN:VCALENDAR
VERSION:2.0
PRODID:Yachts and Yachting Online
CALSCALE:GREGORIAN
BEGIN:VEVENT
DTSTART:20230726T090000Z
DTEND:20230730T170000Z
SUMMARY:5th World Championship
LOCATION:Calasetta, Sardinia, Italy
DESCRIPTION:
PRIORITY:3
END:VEVENT
END:VCALENDAR
