BEGIN:VCALENDAR
VERSION:2.0
PRODID:Yachts and Yachting Online
CALSCALE:GREGORIAN
BEGIN:VEVENT
DTSTART:20220305T090000Z
DTEND:20220305T170000Z
SUMMARY:RS400 Open
LOCATION:Chichester Yacht Club
DESCRIPTION:Briefing at 11am
Entry fee - £20

PRIORITY:3
END:VEVENT
END:VCALENDAR
