BEGIN:VCALENDAR
VERSION:2.0
PRODID:Yachts and Yachting Online
CALSCALE:GREGORIAN
BEGIN:VEVENT
DTSTART:20220306T090000Z
DTEND:20220306T170000Z
SUMMARY:Snowflake 7 & 8
LOCATION:Chichester Yacht Club
DESCRIPTION:
PRIORITY:3
END:VEVENT
END:VCALENDAR
