BEGIN:VCALENDAR
VERSION:2.0
PRODID:Yachts and Yachting Online
CALSCALE:GREGORIAN
BEGIN:VEVENT
DTSTART:20220305T090000Z
DTEND:20220306T170000Z
SUMMARY:UK Class Winter Training
LOCATION:Draycote Water Sailing Club
DESCRIPTION:
PRIORITY:3
END:VEVENT
END:VCALENDAR
