BEGIN:VCALENDAR
VERSION:2.0
PRODID:Yachts and Yachting Online
CALSCALE:GREGORIAN
BEGIN:VEVENT
DTSTART:20211016T090000Z
DTEND:20211017T170000Z
SUMMARY:Southern Traveller
LOCATION:Broxbourne Sailing Club
DESCRIPTION:
PRIORITY:3
END:VEVENT
END:VCALENDAR
