BEGIN:VCALENDAR
VERSION:2.0
PRODID:Yachts and Yachting Online
CALSCALE:GREGORIAN
BEGIN:VEVENT
DTSTART:20210626T090000Z
DTEND:20210627T170000Z
SUMMARY:Open Meeting
LOCATION:Broadstairs Sailing Club
DESCRIPTION:A lovely seaside town, and our only tidal open meeting, this is a great opportunity to have a proper shakedown before the National Championships. Six races over two days. Free camping is available.
PRIORITY:3
END:VEVENT
END:VCALENDAR
