BEGIN:VCALENDAR
VERSION:2.0
PRODID:Yachts and Yachting Online
CALSCALE:GREGORIAN
BEGIN:VEVENT
DTSTART:20210925T090000Z
DTEND:20210925T170000Z
SUMMARY:Millennium Series
LOCATION:Chichester Yacht Club
DESCRIPTION:This club has fantastic facilities and racing is immediately off the club lawn, so is great for spectators. Start times vary depending on tides so keep an eye open for the NoR. Racing is on sheltered flat water, although the tides make for interesting race strategy. Excellent food options at the club and local marina.

PRIORITY:3
END:VEVENT
END:VCALENDAR
