BEGIN:VCALENDAR
VERSION:2.0
PRODID:Yachts and Yachting Online
CALSCALE:GREGORIAN
BEGIN:VEVENT
DTSTART:20210904T090000Z
DTEND:20210905T170000Z
SUMMARY:UK Eastern Championship
LOCATION:Brightlingsea Sailing Club
DESCRIPTION:
PRIORITY:3
END:VEVENT
END:VCALENDAR
