BEGIN:VCALENDAR
VERSION:2.0
PRODID:Yachts and Yachting Online
CALSCALE:GREGORIAN
BEGIN:VEVENT
DTSTART:20200704T090000Z
DTEND:20200705T170000Z
SUMMARY:Open Meeting
LOCATION:Solway Yacht Club
DESCRIPTION:
PRIORITY:3
END:VEVENT
END:VCALENDAR
