BEGIN:VCALENDAR
VERSION:2.0
PRODID:Yachts and Yachting Online
CALSCALE:GREGORIAN
BEGIN:VEVENT
DTSTART:20200502T090000Z
DTEND:20200503T170000Z
SUMMARY:Scottish Championships
LOCATION:Annandale Sailing Club
DESCRIPTION:
PRIORITY:3
END:VEVENT
END:VCALENDAR
