BEGIN:VCALENDAR
VERSION:2.0
PRODID:Yachts and Yachting Online
CALSCALE:GREGORIAN
BEGIN:VEVENT
DTSTART:20200704T090000Z
DTEND:20200705T170000Z
SUMMARY:National Series #4
LOCATION:Royal Harwich Yacht Club
DESCRIPTION:Northern area series, Eastern series
PRIORITY:3
END:VEVENT
END:VCALENDAR
