BEGIN:VCALENDAR
VERSION:2.0
PRODID:Yachts and Yachting Online
CALSCALE:GREGORIAN
BEGIN:VEVENT
DTSTART:20200119T090000Z
DTEND:20200119T170000Z
SUMMARY:Open Icicle Handicap Series
LOCATION:Bough Beech Sailing Club
DESCRIPTION:Briefing at 1015 hrs in 5 January
Entry fee for series - £60 for double hander, £40 for single hander, £10 for day entry.  Reduced rates for those under 18.

PRIORITY:3
END:VEVENT
END:VCALENDAR
