BEGIN:VCALENDAR
VERSION:2.0
PRODID:Yachts and Yachting Online
CALSCALE:GREGORIAN
BEGIN:VEVENT
DTSTART:20191124T090000Z
DTEND:20191124T170000Z
SUMMARY:Frostbite Open Handicap Series
LOCATION:Ripon Sailing Club
DESCRIPTION:Ripon SC Frostbite Open Series runs on every Sunday between 10 November and 15 December 2019. Open to all mono-hulled dinghies with a waterline length of less than 15ft. No charge for entry, £20 to store a dinghy at the Club for the duration of the Series. The Series is composed of handicap racing, sailed in Fast and Slow Classes, first race at 11am. Galley service available offering lunches, hot and cold drinks and snacks.

PRIORITY:3
END:VEVENT
END:VCALENDAR
