BEGIN:VCALENDAR
VERSION:2.0
PRODID:Yachts and Yachting Online
CALSCALE:GREGORIAN
BEGIN:VEVENT
DTSTART:20191201T090000Z
DTEND:20191201T170000Z
SUMMARY:Winter Series Open Meeting
LOCATION:Maylandsea Bay Sailing Club
DESCRIPTION:The series is open to dinghies with a PY of 1250 and below. Depending on the makeup and size of the fleet the race officer will decide if it should be split in to fast and medium handicaps.
Prizes will be awarded depending on the makeup of the fleets.
The gate will be open 1 !/2 hours before the race start time. Registration will start at 9.00am on Sunday 27th October. A sail briefing will be held 30 minutes before the race start time. Prize giving will take place after racing on the 15th December.

Entry Fee:  Single handed £4 for the day or £12 for the series. 
	        Crewed boats £6 for the day or £18 for the series		
(Free to members of MBSC and HBSC).
	       
Dates and Times
Sunday 27th October Start 10:00am (Race 1 & 2)
Sunday 10th November Start 9:30am (Races 3 & 4)
Sunday 24th November Start 10:00 (Race 5)
Sunday 1st December Start 2.00pm (Race 6)
Sunday15th December Start 12:45pm (Races 7 & 8)

PRIORITY:3
END:VEVENT
END:VCALENDAR
