BEGIN:VCALENDAR
VERSION:2.0
PRODID:Yachts and Yachting Online
CALSCALE:GREGORIAN
BEGIN:VEVENT
DTSTART:20190922T090000Z
DTEND:20190922T170000Z
SUMMARY:Open Meeting
LOCATION:Chipstead Sailing Club
DESCRIPTION:Save the date!

Stay tuned - more details soon!

For more information about Chipstead SC and how to find us, please see the concurrent ad for our Firefly class event

PRIORITY:3
END:VEVENT
END:VCALENDAR
