BEGIN:VCALENDAR
VERSION:2.0
PRODID:Yachts and Yachting Online
CALSCALE:GREGORIAN
BEGIN:VEVENT
DTSTART:20190921T090000Z
DTEND:20190921T170000Z
SUMMARY:NobleMarine TT Open Meeting
LOCATION:Haversham Sailing Club
DESCRIPTION:
PRIORITY:3
END:VEVENT
END:VCALENDAR
