BEGIN:VCALENDAR
VERSION:2.0
PRODID:Yachts and Yachting Online
CALSCALE:GREGORIAN
BEGIN:VEVENT
DTSTART:20190419T090000Z
DTEND:20190422T170000Z
SUMMARY:Easter Chase
LOCATION:Rock Sailing and Waterski Club
DESCRIPTION:Laser single-handers Open,  plus also a handicap series for monos
See website for race programme 

PRIORITY:3
END:VEVENT
END:VCALENDAR
