BEGIN:VCALENDAR
VERSION:2.0
PRODID:Yachts and Yachting Online
CALSCALE:GREGORIAN
BEGIN:VEVENT
DTSTART:20190419T090000Z
DTEND:20190419T170000Z
SUMMARY:Class Coaching
LOCATION:Hunts Sailing Club
DESCRIPTION:The 2019 Supernova Traveller Series has been announced and it is looking to be a fantastic year for the series. We have an excellent line up this year with 15 events as well as 2 class coaching days
PRIORITY:3
END:VEVENT
END:VCALENDAR
