BEGIN:VCALENDAR
VERSION:2.0
PRODID:Yachts and Yachting Online
CALSCALE:GREGORIAN
BEGIN:VEVENT
DTSTART:20190629T090000Z
DTEND:20190630T170000Z
SUMMARY:Waples Wines Northern Traveller
LOCATION:Dovestone Sailing Club
DESCRIPTION:
PRIORITY:3
END:VEVENT
END:VCALENDAR
