BEGIN:VCALENDAR
VERSION:2.0
PRODID:Yachts and Yachting Online
CALSCALE:GREGORIAN
BEGIN:VEVENT
DTSTART:20180901T090000Z
DTEND:20180901T170000Z
SUMMARY:Inland Champs
LOCATION:Middle Nene Sailing Club
DESCRIPTION:Please reserve the date - details below. 
Pre-booking would be much appreciated so that we can adapt the event infrastructure in line with the number of visitors expected.

We very much look forward to seeing you!

PRIORITY:3
END:VEVENT
END:VCALENDAR
