BEGIN:VCALENDAR
VERSION:2.0
PRODID:Yachts and Yachting Online
CALSCALE:GREGORIAN
BEGIN:VEVENT
DTSTART:20180901T090000Z
DTEND:20180902T170000Z
SUMMARY:Double Handed National Championship
LOCATION:Royal Ocean Racing Club
DESCRIPTION:It is planned to hold 4 inshore races over the weekend of 1/2 September followed by an offshore race (Cowes - Cherbourg) starting on Friday 7 September which has a points factor of 2.0.

PRIORITY:3
END:VEVENT
END:VCALENDAR
