BEGIN:VCALENDAR
VERSION:2.0
PRODID:Yachts and Yachting Online
CALSCALE:GREGORIAN
BEGIN:VEVENT
DTSTART:20181028T090000Z
DTEND:20181028T170000Z
SUMMARY:Winter Draws On (handicap open)
LOCATION:Weir Wood Sailing Club
DESCRIPTION:Towards the end of the Autumn we traditionally hold our ‘Winter Draws On' general handicap dinghy event. This year, for the first time, we plan to make this an Open event and are hopeful that we will attract visitors from neighbouring clubs in the south east and possibly further afield.

Briefing at 10.30

Entry Fee £10


Weir Wood is located on the edge of the Ashdown Forest at Forest Row just over 3 miles from East Grinstead. Weir Wood is about 1.5 miles long and extends to about 280 acres.

PRIORITY:3
END:VEVENT
END:VCALENDAR
