BEGIN:VCALENDAR
VERSION:2.0
PRODID:Yachts and Yachting Online
CALSCALE:GREGORIAN
BEGIN:VEVENT
DTSTART:20150104T090000Z
DTEND:20150104T170000Z
SUMMARY:Chase SC - Winter Championships
LOCATION:Chase Sailing Club
DESCRIPTION:Starts Sunday 4th January 2015
then 18th Jan, 1st Feb, 22nd Feb, 8th March, 22nd March.
2 Races starting at noon, 12 races in total - 8 to count
Fleet racing for classes with 3+ boats
WInter Membership available 1st Jan - 31 March £50
Also racing every Saturday, boat storage available 

Contact Neil Davies for details 01543 276904
PRIORITY:3
END:VEVENT
END:VCALENDAR
