BEGIN:VCALENDAR
VERSION:2.0
PRODID:Yachts and Yachting Online
CALSCALE:GREGORIAN
BEGIN:VEVENT
DTSTART:20150104T090000Z
DTEND:20150104T170000Z
SUMMARY:Blackwater Icicle
LOCATION:Harlow (Blackwater) Sailing Club
DESCRIPTION:START TIME  10.05

PRIORITY:3
END:VEVENT
END:VCALENDAR
