BEGIN:VCALENDAR
VERSION:2.0
PRODID:Yachts and Yachting Online
CALSCALE:GREGORIAN
BEGIN:VEVENT
DTSTART:20150103T090000Z
DTEND:20150103T170000Z
SUMMARY:Winter Championship
LOCATION:Oxford Sailing Club
DESCRIPTION:RS Aero Winter Championship will be held at Oxford SC, Farmoor, on Saturday 3rd January as part of the ‘Oxford Blue’ Sail-Juice event 
PRIORITY:3
END:VEVENT
END:VCALENDAR
