BEGIN:VCALENDAR
VERSION:2.0
PRODID:Yachts and Yachting Online
CALSCALE:GREGORIAN
BEGIN:VEVENT
DTSTART:20150104T090000Z
DTEND:20150104T170000Z
SUMMARY:Icicle Open Meeting (all dinghies under 20ft)
LOCATION:Bough Beech Sailing Club
DESCRIPTION:Briefing at 10.00hrs each sunday
Entry fee - £50 for double handerfor 8wks(inc boat park)
            £35  for singlehander
2races/day/2 courses asym/trad.entry and NRO on web.
entry before or on day. 90+ last yr/ 40to50 each start.
THE PREMIER WINTER HANDICAP EVENT in SOUTH EAST
PRIORITY:3
END:VEVENT
END:VCALENDAR
