BEGIN:VCALENDAR
VERSION:2.0
PRODID:Yachts and Yachting Online
CALSCALE:GREGORIAN
BEGIN:VEVENT
DTSTART:20150104T090000Z
DTEND:20150104T170000Z
SUMMARY:Open Meeting Hangover Handicap race &  Winter Frostbite
LOCATION:Crosby Sailing Club
DESCRIPTION:Briefing at 10.30 if required ,  1100hrs  start    3 races on the day
Entry fee - £5
These races will be part of the Frostbite series 
Accomodation can be found at the centre, dinghy storage can be arranged. Bistro / coffees and warm inside viewing area for non sailors.  search  crosby lakeside adventure centre
SALT WATER LAKE    WHICH RARELY FREEZES....... 

PRIORITY:3
END:VEVENT
END:VCALENDAR
