BEGIN:VCALENDAR
VERSION:2.0
PRODID:Yachts and Yachting Online
CALSCALE:GREGORIAN
BEGIN:VEVENT
DTSTART:20150103T090000Z
DTEND:20150103T170000Z
SUMMARY:Winter Challenge
LOCATION:Oxford Sailing Club
DESCRIPTION:For Blaze/Fire/Halo
GJW Direct Winter Series - Oxford Blue - enter via Sailracer 


PRIORITY:3
END:VEVENT
END:VCALENDAR
