BEGIN:VCALENDAR
VERSION:2.0
PRODID:Yachts and Yachting Online
CALSCALE:GREGORIAN
BEGIN:VEVENT
DTSTART:20150104T090000Z
DTEND:20150104T170000Z
SUMMARY:Blackwater Winter & Icicle Series
LOCATION:Blackwater Sailing Club
DESCRIPTION:One all in handicap race per race day.

£40 event fee includes boat parking for event period.

Start dates and times:

09/11/14 @ 12:00
23/11/14 @ 11:00
07/12/14 @ 11:00
21/12/14 @ 10:00
04/01/15 @ 10:30
18/01/15 @ 09:00
01/02/15 @ 09:30
08/02/15 @ 13:30
22/02/15 @ 13:30

PRIORITY:3
END:VEVENT
END:VCALENDAR
