BEGIN:VCALENDAR
VERSION:2.0
PRODID:Yachts and Yachting Online
CALSCALE:GREGORIAN
BEGIN:VEVENT
DTSTART:20150103T090000Z
DTEND:20150103T170000Z
SUMMARY:Junior Winter Regatta
LOCATION:Leigh & Lowton Sailing Club
DESCRIPTION:Major event for Juniors and Youths U19.  3 races, first start 11.00, briefing 10.15.  Food available all day.

3 fleets:
U19 handicap
Toppers
Optimists

Prizes throughout the fleets, the biggest junior winter event in the North West!!
PRIORITY:3
END:VEVENT
END:VCALENDAR
