BEGIN:VCALENDAR
VERSION:2.0
PRODID:Yachts and Yachting Online
CALSCALE:GREGORIAN
BEGIN:VEVENT
DTSTART:20150104T090000Z
DTEND:20150104T170000Z
SUMMARY:Tipsy Icicle Series
LOCATION:Leigh & Lowton Sailing Club
DESCRIPTION:Tipsy Icicle open series over 11 Sundays from 4th January through to 15th March, part of the UK's Biggest Winter Series. Racing for Lasers, Solos, Asymmetric, Junior and Handicap fleets.

Start time 12.00 each Sunday, two races, great food available. Open to non-members, for entries and further details - see link.

PRIORITY:3
END:VEVENT
END:VCALENDAR
