BEGIN:VCALENDAR
VERSION:2.0
PRODID:Yachts and Yachting Online
CALSCALE:GREGORIAN
BEGIN:VEVENT
DTSTART:20150101T090000Z
DTEND:20150101T170000Z
SUMMARY:New Year's Day Pursuit
LOCATION:Leigh & Lowton Sailing Club
DESCRIPTION:The biggest & best pursuit race in the North West. Entry fee single hander online - £8, see link. Briefing 12.00. First start - Optimists 12.40, finish 15.30. Prizes for overall positions and 1st in class where there are 5 or more entries.

Come and join the fun!
PRIORITY:3
END:VEVENT
END:VCALENDAR
