BEGIN:VCALENDAR
VERSION:2.0
PRODID:Yachts and Yachting Online
CALSCALE:GREGORIAN
BEGIN:VEVENT
DTSTART:20150104T090000Z
DTEND:20150104T170000Z
SUMMARY:Open Meeting
LOCATION:Scammonden Water Sailing Club
DESCRIPTION:Every Sunday from January 4 to February 22.
Entry fee - £2 for non-members.
On the water for 1pm.

PRIORITY:3
END:VEVENT
END:VCALENDAR
