BEGIN:VCALENDAR
VERSION:2.0
PRODID:Yachts and Yachting Online
CALSCALE:GREGORIAN
BEGIN:VEVENT
DTSTART:20141228T090000Z
DTEND:20150109T170000Z
SUMMARY:World Championships
LOCATION:Theewater Sports Club
DESCRIPTION:
PRIORITY:3
END:VEVENT
END:VCALENDAR
