BEGIN:VCALENDAR
VERSION:2.0
PRODID:Yachts and Yachting Online
CALSCALE:GREGORIAN
BEGIN:VEVENT
DTSTART:20260926T090000Z
DTEND:20260927T170000Z
SUMMARY:Soak Tide Ride
LOCATION:Hayling Island Sailing Club
DESCRIPTION:
PRIORITY:3
END:VEVENT
END:VCALENDAR
